BEGIN:VCALENDAR
VERSION:2.0
PRODID:-//ChamberMaster//Event Calendar 2.0//EN
METHOD:PUBLISH
X-PUBLISHED-TTL:P3D
REFRESH-INTERVAL:P3D
CALSCALE:GREGORIAN
BEGIN:VEVENT
DTSTART:20211208T163000Z
DTEND:20211208T180000Z
X-MICROSOFT-CDO-ALLDAYEVENT:FALSE
SUMMARY:Being an Employer in the time of Covid Economic Luncheon Featuring Diane Y. Bower\, Esq.
DESCRIPTION:As the Covid-19 situation grew and escalated to a global pandemic\, federal and state government regulations\, mandates\, statutes\, and orders regarding the virus were issued on what seemed to be a daily basis.  A large share of the regulatory burden in those directives has fallen on employers\, who are already facing labor and materials shortages due to the virus.  Recently\, a mandate was   issued requiring employers with over 100 employees to ensure their employees either are vaccinated or get tested weekly for the virus.  Join us for an overview and update of this latest round of employer requirements.\n\n \n\nFeatured Guest:\n\nDiane Y. Bower\, Esq.\n\n            Diane Y. Bower is an attorney and shareholder in the law firm of Marcoux\, Allen\, Bower & Kendall\, P.C\, and is President of the firm.  She was born in Jackson\, Michigan\, and attended Jackson Community College\, before graduating summa cum laude from Eastern Michigan University in 1978. Ms. Bower has been with Marcoux Allen since her graduation from the University of Michigan law school.  She was admitted to practice law in Michigan in May of 1981 and has been a partner in the firm since 1984. Ms. Bower is admitted to practice in the state courts of Michigan and in federal court in the United States District Courts for the Eastern and Western Districts of Michigan\, the Northern District of Illinois\, and in the Sixth Circuit Court of Appeals.\n\n            Ms. Bower's principal areas of practice are employment law\, including government regulations\, banking law\, corporate law\; and commercial litigation.  She has over thirty years of experience in the practice of employment law\, banking law\, and commercial law and also has several non-profit organizations as clients.  In addition to practicing law\, Ms. Bower does employee training and seminars for employers as a pro-active approach to ensuring compliance with federal and state employment laws\, rules\, and regulations.
X-ALT-DESC;FMTTYPE=text/html:<p class="x_MsoNormal" style="margin: 0in\; font-size: 11pt\; font-family: Calibri\, sans-serif\; color: rgb(32\, 31\, 30)\; text-align: justify\;"><span style="color:#000000\;"><span style="margin: 0px\; padding: 0px\; border: 0px\; font-style: inherit\; font-variant: inherit\; font-weight: inherit\; font-stretch: inherit\; font-size: 14pt\; line-height: inherit\; vertical-align: baseline\;">As the Covid-19 situation grew and escalated to a global pandemic\, federal and state government regulations\, mandates\, statutes\, and orders regarding the virus were issued on what seemed to be a daily basis.&nbsp\; A large share of the regulatory burden in those directives has fallen on employers\, who are already facing labor and materials shortages due to the virus.&nbsp\; Recently\, a mandate was&nbsp\;&nbsp\; issued requiring employers with over 100 employees to ensure their employees either are vaccinated or get tested weekly for the virus.&nbsp\; Join us for an overview and update of this latest round of employer requirements.</span></span></p>\n\n<p class="x_MsoNormal" style="margin: 0in\; font-size: 11pt\; font-family: Calibri\, sans-serif\; color: rgb(32\, 31\, 30)\;"><span style="color:#000000\;"><span franklin="" gothic="" style="margin: 0px\; padding: 0px\; border: 0px\; font-style: inherit\; font-variant: inherit\; font-weight: inherit\; font-stretch: inherit\; font-size: inherit\; line-height: inherit\; font-family: " vertical-align:="">&nbsp\;</span></span></p>\n\n<p class="x_MsoNormal" style="margin: 0in\; font-size: 11pt\; font-family: Calibri\, sans-serif\; color: rgb(32\, 31\, 30)\;"><span style="color:#000000\;"><b><span style="margin: 0px\; padding: 0px\; border: 0px\; font-style: inherit\; font-variant: inherit\; font-weight: inherit\; font-stretch: inherit\; font-size: 18pt\; line-height: inherit\; vertical-align: baseline\;">Featured Guest:</span></b></span></p>\n\n<p class="x_MsoNormal" style="margin: 0in\; font-size: 11pt\; font-family: Calibri\, sans-serif\; color: rgb(32\, 31\, 30)\;"><span style="color:#000000\;"><span style="margin: 0px\; padding: 0px\; border: 0px\; font-style: inherit\; font-variant: inherit\; font-weight: inherit\; font-stretch: inherit\; font-size: 14pt\; line-height: inherit\; vertical-align: baseline\; background: yellow\;"><span style="background-color:#FFFFFF\;">Diane Y. Bower\, Esq.</span></span></span></p>\n\n<p class="x_MsoNormal" style="margin: 0in\; font-size: 11pt\; font-family: Calibri\, sans-serif\; color: rgb(32\, 31\, 30)\;"><span style="color:#000000\;"><span style="margin: 0px\; padding: 0px\; border: 0px\; font-style: inherit\; font-variant: inherit\; font-weight: inherit\; font-stretch: inherit\; font-size: 14pt\; line-height: inherit\; vertical-align: baseline\; background: yellow\;"><span style="background-color:#FFFFFF\;">&nbsp\;&nbsp\;&nbsp\;&nbsp\;&nbsp\;&nbsp\;&nbsp\;&nbsp\;&nbsp\;&nbsp\;&nbsp\; Diane Y. Bower is an attorney and shareholder in the law firm of Marcoux\, Allen\, Bower &amp\; Kendall\, P.C\, and is President of the firm.</span></span><span style="margin: 0px\; padding: 0px\; border: 0px\; font-style: inherit\; font-variant: inherit\; font-weight: inherit\; font-stretch: inherit\; font-size: 14pt\; line-height: inherit\; vertical-align: baseline\;"><span style="background-color:#FFFFFF\;">&nbsp\; S</span>he was born in Jackson\, Michigan\, and attended Jackson Community College\, before graduating summa cum laude from Eastern Michigan University in 1978.&nbsp\;Ms. Bower has been with Marcoux Allen since her graduation from the University of Michigan law school.&nbsp\; She was admitted to practice law in Michigan in May of 1981 and has been a partner in the firm since 1984.&nbsp\;Ms. Bower is admitted to practice in the state courts of Michigan and in federal court in the United States District Courts for the Eastern and Western Districts of Michigan\, the Northern District of Illinois\, and in the Sixth Circuit Court of Appeals.</span></span></p>\n\n<p class="x_MsoNormal" style="margin: 0in\; font-size: 11pt\; font-family: Calibri\, sans-serif\; color: rgb(32\, 31\, 30)\;"><span style="color:#000000\;"><span style="margin: 0px\; padding: 0px\; border: 0px\; font-style: inherit\; font-variant: inherit\; font-weight: inherit\; font-stretch: inherit\; font-size: 14pt\; line-height: inherit\; vertical-align: baseline\;">&nbsp\;&nbsp\;&nbsp\;&nbsp\;&nbsp\;&nbsp\;&nbsp\;&nbsp\;&nbsp\;&nbsp\;<span style="background-color:#FFFFFF\;">&nbsp\;&nbsp\;</span><span style="margin: 0px\; padding: 0px\; border: 0px\; font: inherit\; vertical-align: baseline\; background: yellow\;"><span style="background-color:#FFFFFF\;">Ms. Bower&rsquo\;s principal areas of practice are employment law\, including government regulations\, banking law</span></span><span style="background-color:#FFFFFF\;">\, corporate law\; and commercial litigation.&nbsp\;&nbsp\;</span><span style="margin: 0px\; padding: 0px\; border: 0px\; font: inherit\; vertical-align: baseline\; background: yellow\;"><span style="background-color:#FFFFFF\;">She has over thirty years of experience in the practice of employment law</span></span><span style="background-color:#FFFFFF\;">\, banking law\, and commercial law and also has several non-profit organizations as clients.&nbsp\;&nbsp\;</span><span style="margin: 0px\; padding: 0px\; border: 0px\; font: inherit\; vertical-align: baseline\; background: yellow\;"><span style="background-color:#FFFFFF\;">In addition to practicing law\, Ms. Bower does employee training and seminars for employers as a pro-active approach to ensuring compliance with federal and state employment laws\, rules\, and regulations.</span></span><span style="background-color:#FFFFFF\;">&nbsp\;</span></span></span><br />\n<br />\n&nbsp\;</p>\n
LOCATION:Cascades Manor House 1970 Kibby Rd\, Jackson\, MI 49203
UID:e.2258.7625
SEQUENCE:3
DTSTAMP:20260419T183318Z
URL:https://business.jacksonchamber.org/events/details/being-an-employer-in-the-time-of-covid-economic-luncheon-featuring-diane-y-bower-esq-7625
END:VEVENT

END:VCALENDAR
