BEGIN:VCALENDAR
VERSION:2.0
PRODID:-//ChamberMaster//Event Calendar 2.0//EN
METHOD:PUBLISH
X-PUBLISHED-TTL:P3D
REFRESH-INTERVAL:P3D
CALSCALE:GREGORIAN
BEGIN:VEVENT
DTSTART;VALUE=DATE:20220211
DTEND;VALUE=DATE:20220212
TRANSP:TRANSPARENT
X-MICROSOFT-CDO-ALLDAYEVENT:TRUE
SUMMARY:Community Awards Week - Today Featuring The Reach HIRE Award Winner
DESCRIPTION:The Chamber's Community Awards Week\, presented by JTV\, NewsTalk 970/101.5\, 106.9 HOME.FM\, and Jackson Magazine\, celebrates exceptional individuals and organizations whose business and leadership demonstrate significant contributions to Jackson.\n\n\n	Friday\, February 11th\, The Reach HIRE Award Presented by Michigan Works! Southeast
X-ALT-DESC;FMTTYPE=text/html:<h4 style="box-sizing: border-box\; font-variant-numeric: normal\; font-variant-east-asian: normal\; font-stretch: normal\; font-size: 1.125rem\; line-height: normal\; font-family: &quot\;Open Sans&quot\;\; color: rgb(51\, 51\, 51)\; margin-top: 0px\; margin-bottom: 10px\; background-color: rgb(255\, 255\, 255)\;"><span style="font-family:arial\;"><span style="color:#000000\;"><strong>The Chamber&rsquo\;s Community Awards Week\, presented by JTV\, NewsTalk 970/101.5\, 106.9 HOME.FM\, and&nbsp\;Jackson Magazine\, celebrates exceptional individuals and organizations whose business and leadership demonstrate significant contributions to Jackson.</strong></span></span></h4>\n\n<ul style="padding: 0px 40px\; color: rgb(51\, 51\, 51)\;">\n	<li style="font-family: sans-serif\, Arial\, Verdana\, &quot\;Trebuchet MS&quot\;\; font-size: 13px\;"><span style="font-family:arial\;"><span style="color:#000000\;"><span style="font-size: 14px\;font-style: inherit\;font-weight: inherit">Friday\, February 11th\, The Reach HIRE Award Presented by Michigan Works! Southeast</span><strong><span style="background-color: rgb(255\, 255\, 255)\;">&nbsp\;</span></strong></span></span></li>\n</ul>\n
LOCATION:
UID:e.2258.7647
SEQUENCE:3
DTSTAMP:20260419T220425Z
URL:https://business.jacksonchamber.org/events/details/community-awards-week-today-featuring-the-reach-hire-award-winner-7647
END:VEVENT

END:VCALENDAR
