BEGIN:VCALENDAR
VERSION:2.0
PRODID:-//ChamberMaster//Event Calendar 2.0//EN
METHOD:PUBLISH
X-PUBLISHED-TTL:P3D
REFRESH-INTERVAL:P3D
CALSCALE:GREGORIAN
BEGIN:VEVENT
DTSTART:20211210T144500Z
DTEND:20211210T153000Z
X-MICROSOFT-CDO-ALLDAYEVENT:FALSE
SUMMARY:Crimson Oak Wood Co Ribbon Cutting Celebration
DESCRIPTION:We are pleased to announce the Ribbon Cutting Ceremony for Crimson Oak Wood Co on Friday\, December 10th from 9:45am-10:30am. Ribbon will be cut around 9:50am.\n\nStop by and shop! \n\n\n\nCrimson Oak's WoodCo craftsman's specialize in manufacturing custom residential and commercial furniture & home decor.
X-ALT-DESC;FMTTYPE=text/html:<div class="kvgmc6g5 cxmmr5t8 oygrvhab hcukyx3x c1et5uql" style="overflow-wrap: break-word\; margin: 0px\; font-family: &quot\;Segoe UI Historic&quot\;\, &quot\;Segoe UI&quot\;\, Helvetica\, Arial\, sans-serif\; color: rgb(5\, 5\, 5)\; font-size: 15px\;"><span style="font-size:14px\;">We are pleased to announce the Ribbon Cutting Ceremony for Crimson Oak Wood Co on Friday\, December 10th&nbsp\;from 9:45am-10:30am.&nbsp\;Ribbon will be cut around 9:50am.</span></div>\n\n<div class="o9v6fnle cxmmr5t8 oygrvhab hcukyx3x c1et5uql" style="overflow-wrap: break-word\; margin: 0.5em 0px 0px\; font-family: &quot\;Segoe UI Historic&quot\;\, &quot\;Segoe UI&quot\;\, Helvetica\, Arial\, sans-serif\; color: rgb(5\, 5\, 5)\; font-size: 15px\;"><span style="font-size:14px\;">Stop by and shop!&nbsp\;<br />\n<br />\n<span style="background-color: rgb(255\, 255\, 255)\;"><font color="#050505" face="Segoe UI Historic\, Segoe UI\, Helvetica\, Arial\, sans-serif">Crimson Oak&#39\;s WoodCo craftsman&#39\;s&nbsp\;specialize in manufacturing custom residential and commercial furniture &amp\; home decor.</font></span></span></div>\n
LOCATION:Crimson Oak WoodCo 1901 Horton Rd.
UID:e.2258.7626
SEQUENCE:3
DTSTAMP:20260419T182702Z
URL:https://business.jacksonchamber.org/events/details/crimson-oak-wood-co-ribbon-cutting-celebration-7626
END:VEVENT

END:VCALENDAR
