BEGIN:VCALENDAR
VERSION:2.0
PRODID:-//ChamberMaster//Event Calendar 2.0//EN
METHOD:PUBLISH
X-PUBLISHED-TTL:P3D
REFRESH-INTERVAL:P3D
CALSCALE:GREGORIAN
BEGIN:VEVENT
DTSTART:20220317T173000Z
DTEND:20220317T200000Z
X-MICROSOFT-CDO-ALLDAYEVENT:FALSE
SUMMARY:GQT Jackson 10 Grand Opening/Ribbon Cutting
DESCRIPTION:Join us in celebrating the grand opening/ribbon cutting for Jackson 10 from 1:30pm-4pm. Ribbon will be cut at 2pm.
X-ALT-DESC;FMTTYPE=text/html:Join us in celebrating the grand opening/ribbon cutting for Jackson 10 from 1:30pm-4pm. Ribbon will be cut at 2pm.
LOCATION:GQT Jackson 10 1501 N. Wisner St.
UID:e.2258.7665
SEQUENCE:3
DTSTAMP:20260424T115225Z
URL:https://business.jacksonchamber.org/events/details/gqt-jackson-10-grand-opening-ribbon-cutting-7665
END:VEVENT

END:VCALENDAR
