BEGIN:VCALENDAR
VERSION:2.0
PRODID:-//ChamberMaster//Event Calendar 2.0//EN
METHOD:PUBLISH
X-PUBLISHED-TTL:P3D
REFRESH-INTERVAL:P3D
CALSCALE:GREGORIAN
BEGIN:VEVENT
DTSTART:20211209T160000Z
DTEND:20211209T180000Z
X-MICROSOFT-CDO-ALLDAYEVENT:FALSE
SUMMARY:Grand Opening and Premier Ribbon Cutting for R.J.'s Metropolitan Ice Cream Co.
DESCRIPTION:Join us\, December 9th\, 2021\, at 11am\, for the official ribbon cutting and GRAND OPENING of R.J.'s Heavenly Delights Second "Sister" Location/New Shop in downtown Jackson. Ribbon will be cut at 11am.
X-ALT-DESC;FMTTYPE=text/html:<span style="font-size:18px\;"><span style="color: rgb(5\, 5\, 5)\; font-family: &quot\;Segoe UI Historic&quot\;\, &quot\;Segoe UI&quot\;\, Helvetica\, Arial\, sans-serif\; white-space: pre-wrap\; background-color: rgb(255\, 255\, 255)\;">Join us\, December 9th\, 2021\, at 11am\, for the official ribbon cutting and GRAND OPENING of R.J.&#39\;s Heavenly Delights Second &ldquo\;Sister&rdquo\; Location/New Shop in downtown Jackson. Ribbon will be cut at 11am. </span></span>
LOCATION:R.J.'s Metropolitan Ice Cream Co. 135 E Michigan Ave\, Jackson\, MI 49201
UID:e.2258.7624
SEQUENCE:3
DTSTAMP:20260419T183031Z
URL:https://business.jacksonchamber.org/events/details/grand-opening-and-premier-ribbon-cutting-for-r-j-s-metropolitan-ice-cream-co-7624
END:VEVENT

END:VCALENDAR
