BEGIN:VCALENDAR
VERSION:2.0
PRODID:-//ChamberMaster//Event Calendar 2.0//EN
METHOD:PUBLISH
X-PUBLISHED-TTL:P3D
REFRESH-INTERVAL:P3D
CALSCALE:GREGORIAN
BEGIN:VEVENT
DTSTART:20211014T200000Z
DTEND:20211014T213000Z
X-MICROSOFT-CDO-ALLDAYEVENT:FALSE
SUMMARY:Jackson School of the Arts Ribbon Cutting
DESCRIPTION:The iconic Vermeulen's building has been a staple of the Downtown Jackson cityscape and the School of the Arts is looking forward to breathing new life into the block. The relocation of the Jackson School of the Arts to a newly renovated building will further drive local community engagement and development throughout the downtown.
X-ALT-DESC;FMTTYPE=text/html:<span style="color: rgb(84\, 84\, 84)\; font-family: Lato\, Arial\, sans-serif\; font-size: 14px\;">The iconic Vermeulen&rsquo\;s building has been a staple of the Downtown Jackson cityscape and the School of the Arts is looking forward to breathing new life into the block.&nbsp\;The relocation of the Jackson School of the Arts to a newly renovated building will further drive local community engagement and development throughout the downtown.</span>
LOCATION:135 W. West Cortland St.
UID:e.2258.7606
SEQUENCE:3
DTSTAMP:20260419T132939Z
URL:https://business.jacksonchamber.org/events/details/jackson-school-of-the-arts-ribbon-cutting-7606
END:VEVENT

END:VCALENDAR
