BEGIN:VCALENDAR
VERSION:2.0
PRODID:-//ChamberMaster//Event Calendar 2.0//EN
METHOD:PUBLISH
X-PUBLISHED-TTL:P3D
REFRESH-INTERVAL:P3D
CALSCALE:GREGORIAN
BEGIN:VEVENT
DTSTART:20211021T170000Z
DTEND:20211021T210000Z
X-MICROSOFT-CDO-ALLDAYEVENT:FALSE
SUMMARY:JAXPO 2021- Business 2 Business Showcase
DESCRIPTION:JAXPO gives businesses the unique opportunity to highlight their enterprises\, network with current and potential customers and celebrate the best of Jackson. This one-day trade show is the Chamber's annual business-2-business showcase\, and it offers a venue to reinforce current business relationships and spark new partnerships.
X-ALT-DESC;FMTTYPE=text/html:<div>\n<table align="center" border="0" cellpadding="0" cellspacing="0" style="width:100.0%\;border-collapse:collapse\;" width="100%">\n	<tbody>\n		<tr>\n			<td style="width:100.0%\;padding:0in 0in 0in 0in\;vertical-align:top\;">\n			<table border="0" cellpadding="0" cellspacing="0" style="width:100.0%\;border-collapse:collapse\;" width="100%">\n				<tbody>\n					<tr>\n						<td style="padding:7.5pt 30.0pt 7.5pt 30.0pt\;vertical-align:top\;"><span style="font-size:20px\;"><span style="color:black\;"><span style="font-family:arial\,sans-serif\;">JAXPO gives businesses the unique opportunity to highlight their enterprises\, network with current and potential customers and celebrate the best of Jackson. This one-day trade show is the Chamber&rsquo\;s annual business-2-business showcase\, and it offers a venue to reinforce current business relationships and spark new partnerships.</span></span></span></td>\n					</tr>\n				</tbody>\n			</table>\n			</td>\n		</tr>\n	</tbody>\n</table>\n\n<div style="clear:both\;">&nbsp\;</div>\n\n<p class="MsoNormal" style="MARGIN: 0in 0in 10pt"><br />\n&nbsp\;</p>\n</div>\n
LOCATION:American 1 Credit Union Events Center 128 W. Ganson St.\, Jackson\, MI
UID:e.2258.7595
SEQUENCE:3
DTSTAMP:20260419T132843Z
URL:https://business.jacksonchamber.org/events/details/jaxpo-2021-business-2-business-showcase-7595
END:VEVENT

END:VCALENDAR
