BEGIN:VCALENDAR
VERSION:2.0
PRODID:-//ChamberMaster//Event Calendar 2.0//EN
METHOD:PUBLISH
X-PUBLISHED-TTL:P3D
REFRESH-INTERVAL:P3D
CALSCALE:GREGORIAN
BEGIN:VEVENT
DTSTART:20261015T170000Z
DTEND:20261015T210000Z
X-MICROSOFT-CDO-ALLDAYEVENT:FALSE
SUMMARY:JAXPO Business Showcase 2026
DESCRIPTION:The Jackson County Chamber of Commerce is excited to announce the return of the 2026 JAXPO Business Showcase\, taking place Thursday\, October 16th from 1:00 to 5:00 PM at the American 1 Event Center in downtown Jackson!\n\nThis one-day expo brings together businesses of all types for an afternoon of connection\, exposure\, and opportunity. Whether you're looking to build new partnerships or increase visibility\, JAXPO offers a space to share your company's talent\, expertise\, products\, and services.\n\n  1:00 3:00 PM | Member 2 Member Power Hours\n\nExclusively for B2B engagement ideal for making professional connections\, exploring collaborations\, and expanding your network.\n\n  3:00 5:00 PM | Open to the Public\n\nExplore what Jackson County businesses have to offer\, meet local entrepreneurs\, and network casually.\n\n   Bonus Event: Economic Summit | 11:30 AM 1:00 PM\n\nA powerful lead-in to the day's activities\, the Economic Summit features insights from community leaders and economic updates relevant to our region.\n\n   Space is limited for all parts of this event.\n\n  Booth sales started August 11th!\n\n\n\nRegister before 9/15 and you'll receive $25 off!
X-ALT-DESC;FMTTYPE=text/html:<p style="overflow-wrap: break-word\; margin: 0px 0px 20px\; color: rgb(0\, 0\, 0)\; font-family: Montserrat\; font-size: 18px\;"><span style="color:#000000\;"><span style="font-size:14px\;"><span style="font-family:arial\;">The Jackson County Chamber of Commerce is excited to announce the return of the <strong data-end="247" data-start="215">2026&nbsp\;JAXPO Business Showcase</strong>\, taking place <strong data-end="309" data-start="262">Thursday\, October 16th from 1:00 to 5:00 PM</strong> at the American 1 Event Center in downtown Jackson!</span></span></span></p>\n\n<p data-end="640" data-start="363"><span style="color:#000000\;"><span style="font-size:14px\;"><span style="font-family:arial\;">This one-day expo brings together businesses of all types for an afternoon of connection\, exposure\, and opportunity. Whether you&#39\;re looking to build new partnerships or increase visibility\, JAXPO offers a space to share your company&rsquo\;s talent\, expertise\, products\, and services.</span></span></span></p>\n\n<p data-end="825" data-start="642"><span style="color:#000000\;"><span style="font-size:14px\;"><span style="font-family:arial\;">&#128336\; <strong data-end="695" data-start="645">1:00&ndash\;3:00 PM | </strong></span></span></span><strong><span style="font-size:14px\;"><span style="font-family:arial\;">Member 2 Member Power Hours</span></span></strong><br data-end="698" data-start="695" />\n<span style="color:#000000\;"><span style="font-size:14px\;"><span style="font-family:arial\;">Exclusively for B2B engagement&mdash\;ideal for making professional connections\, exploring collaborations\, and expanding your network.</span></span></span></p>\n\n<p data-end="1014" data-start="827"><span style="color:#000000\;"><span style="font-size:14px\;"><span style="font-family:arial\;">&#128338\; <strong data-end="867" data-start="830">3:00&ndash\;5:00 PM | Open to the Public</strong><br data-end="870" data-start="867" />\nExplore what Jackson County businesses have to offer\, meet local entrepreneurs\, and network casually.</span></span></span></p>\n\n<p data-end="1223" data-start="1016"><span style="color:#000000\;"><span style="font-size:14px\;"><span style="font-family:arial\;">&#127869\;&#65039\; <strong data-end="1071" data-start="1020">Bonus Event: Economic Summit | 11:30 AM&ndash\;1:00 PM</strong><br data-end="1074" data-start="1071" />\nA powerful lead-in to the day&rsquo\;s activities\, the Economic Summit features insights from community leaders and economic updates relevant to our region.</span></span></span></p>\n\n<p data-end="1312" data-start="1225"><span style="color:#000000\;"><span style="font-size:14px\;"><span style="font-family:arial\;">&#9888\;&#65039\; Space is limited for all parts of this event.<br data-end="1276" data-start="1273" />\n&#128722\; <strong data-end="1312" data-start="1279">Booth sales started August 11th!</strong></span></span></span><br />\n<br />\n<span style="color:#000000\;"><span style="font-size:16px\;"><strong>Register before 9/15 and you&#39\;ll receive $25 off! <span style="white-space:pre"> </span></strong></span></span></p>\n
LOCATION:
UID:e.2258.8022
SEQUENCE:3
DTSTAMP:20260423T172431Z
URL:https://business.jacksonchamber.org/events/details/jaxpo-business-showcase-2026-8022
END:VEVENT

END:VCALENDAR
