BEGIN:VCALENDAR
VERSION:2.0
PRODID:-//ChamberMaster//Event Calendar 2.0//EN
METHOD:PUBLISH
X-PUBLISHED-TTL:P3D
REFRESH-INTERVAL:P3D
CALSCALE:GREGORIAN
BEGIN:VEVENT
DTSTART:20211118T170000Z
DTEND:20211118T190000Z
X-MICROSOFT-CDO-ALLDAYEVENT:FALSE
SUMMARY:Liberty Tax and Loans Community Celebration and Ribbon Cutting
DESCRIPTION:We are pleased to announce the Ribbon Cutting Ceremony and Community Celebration event for the BTFL Liberty Tax & Loans Jackson office on Thursday\, November 18th from 12pm-2pm. Ribbon will be cut at 12:30pm.\n\nLocated at 3242 E. Michigan Ave.\, they understand that each business and person have unique needs. The Liberty Tax & Loans team creates custom plans\, since one plan does not fit most. They are here to Protect your Dollars.
X-ALT-DESC;FMTTYPE=text/html:<div class="kvgmc6g5 cxmmr5t8 oygrvhab hcukyx3x c1et5uql" style="overflow-wrap: break-word\; margin: 0px\; font-family: &quot\;Segoe UI Historic&quot\;\, &quot\;Segoe UI&quot\;\, Helvetica\, Arial\, sans-serif\; color: rgb(5\, 5\, 5)\; font-size: 15px\;">We are pleased to announce the Ribbon Cutting Ceremony and Community Celebration event for the BTFL Liberty Tax &amp\; Loans Jackson office on Thursday\, November 18th from 12pm-2pm. Ribbon will be cut at 12:30pm.</div>\n\n<div class="o9v6fnle cxmmr5t8 oygrvhab hcukyx3x c1et5uql" style="overflow-wrap: break-word\; margin: 0.5em 0px 0px\; font-family: &quot\;Segoe UI Historic&quot\;\, &quot\;Segoe UI&quot\;\, Helvetica\, Arial\, sans-serif\; color: rgb(5\, 5\, 5)\; font-size: 15px\;">Located at 3242 E. Michigan Ave.\, they understand that each business and person have unique needs. The Liberty Tax &amp\; Loans team creates custom plans\, since one plan does not fit most. They are here to Protect your Dollars.</div>\n
LOCATION:Liberty Tax & Loan 3242 E. Michigan
UID:e.2258.7623
SEQUENCE:3
DTSTAMP:20260419T165456Z
URL:https://business.jacksonchamber.org/events/details/liberty-tax-and-loans-community-celebration-and-ribbon-cutting-7623
END:VEVENT

END:VCALENDAR
