BEGIN:VCALENDAR
VERSION:2.0
PRODID:-//ChamberMaster//Event Calendar 2.0//EN
METHOD:PUBLISH
X-PUBLISHED-TTL:P3D
REFRESH-INTERVAL:P3D
CALSCALE:GREGORIAN
BEGIN:VEVENT
DTSTART:20211007T210000Z
DTEND:20211007T220000Z
X-MICROSOFT-CDO-ALLDAYEVENT:FALSE
SUMMARY:Lifeways Ribbon Cutting
DESCRIPTION:After an extensive remodel\, join us for celebration and Ribbon Cutting at LifeWays
X-ALT-DESC;FMTTYPE=text/html:After an extensive remodel\, join us for celebration and Ribbon Cutting at LifeWays
LOCATION:LifeWays Community Mental Health 1200 N W Ave Jackson\, MI 49202
UID:e.2258.7611
SEQUENCE:3
DTSTAMP:20260419T132507Z
URL:https://business.jacksonchamber.org/events/details/lifeways-ribbon-cutting-7611
END:VEVENT

END:VCALENDAR
