BEGIN:VCALENDAR
VERSION:2.0
PRODID:-//ChamberMaster//Event Calendar 2.0//EN
METHOD:PUBLISH
X-PUBLISHED-TTL:P3D
REFRESH-INTERVAL:P3D
CALSCALE:GREGORIAN
BEGIN:VEVENT
DTSTART:20211118T120000Z
DTEND:20211118T140000Z
X-MICROSOFT-CDO-ALLDAYEVENT:FALSE
SUMMARY:Live at the Lab
DESCRIPTION:The Chamber's Morning Networking Event!\n\nJoin The Chamber and Home.fm at the Lean Rocket Lab as the 106.9 Home.fm Morning Show goes On the Road. There will be casual networking & FREE Fortress Cafe coffee for those attending.\n\nWe are welcoming in a variety of community members and business owners to highlight the great things going on in Jackson - all morning long!
X-ALT-DESC;FMTTYPE=text/html:<div class="kvgmc6g5 cxmmr5t8 oygrvhab hcukyx3x c1et5uql" style="color: rgb(5\, 5\, 5)\; font-family: &quot\;Segoe UI Historic&quot\;\, &quot\;Segoe UI&quot\;\, Helvetica\, Arial\, sans-serif\; font-size: 15px\; overflow-wrap: break-word\; margin: 0px\; background-color: rgb(255\, 255\, 255)\;"><span style="font-family: arial\;"><span style="font-size: 18px\;"><strong>The Chamber&#39\;s Morning Networking Event!</strong></span></span></div>\n\n<div class="o9v6fnle cxmmr5t8 oygrvhab hcukyx3x c1et5uql" style="color: rgb(5\, 5\, 5)\; font-family: &quot\;Segoe UI Historic&quot\;\, &quot\;Segoe UI&quot\;\, Helvetica\, Arial\, sans-serif\; font-size: 15px\; overflow-wrap: break-word\; margin: 0.5em 0px 0px\; background-color: rgb(255\, 255\, 255)\;"><span style="font-family: arial\;"><span style="font-size: 18px\;"><strong>Join The Chamber and&nbsp\;<a class="oajrlxb2 g5ia77u1 qu0x051f esr5mh6w e9989ue4 r7d6kgcz rq0escxv nhd2j8a9 nc684nl6 p7hjln8o kvgmc6g5 cxmmr5t8 oygrvhab hcukyx3x jb3vyjys rz4wbd8a qt6c0cv9 a8nywdso i1ao9s8h esuyzwwr f1sip0of lzcic4wl py34i1dx gpro0wi8" href="https://l.facebook.com/l.php?u=http%3A%2F%2FHome.fm%2F%3Ffbclid%3DIwAR2xb-lY2kWJLD-ouFUkqFk2jATl_UuEDF8wh5nt-UQmmDgDJOTYryuUbA4&amp\;h=AT1jWsdkQDpB0O0uB9lbc9no56VlECEJeEWfg_wHNsoaJ7aZUi7ICJsl2hooIuFemcJdSWocb7vAFuR00DuRvGKPB0qZfAJFaoAwtyLCAVcDU1QM9kKyKPkX6iw8pGEOCcBJ&amp\;__tn__=q&amp\;c[0]=AT05Gf7kZ6OtiQSfcYQYEMwo7q1jMCsYcCGF5hHuldPR-tDNmJBHadYHMbsIuo3vGlqaVdsM3-bvpsIbRiBagsQZkrTMYh9VWYUyUsfJgPcltdNlRjlDXm4upT361IgWMfl8e4wSTZXP0wqz6qCllqjf1FTwnZSCbNzLamFpoWTaIKvu" rel="nofollow noopener" role="link" style="color: rgb(7\, 130\, 193)\; cursor: pointer\; text-decoration-line: none\; outline: none\; list-style: none\; border-width: 0px\; border-style: initial\; border-color: initial\; padding: 0px\; margin: 0px\; touch-action: manipulation\; background-color: transparent\; text-align: inherit\; display: inline\; -webkit-tap-highlight-color: transparent\; box-sizing: border-box\; font-family: inherit\;" tabindex="0" target="_blank">Home.fm</a>&nbsp\;at the Lean Rocket Lab as the 106.9&nbsp\;<a class="oajrlxb2 g5ia77u1 qu0x051f esr5mh6w e9989ue4 r7d6kgcz rq0escxv nhd2j8a9 nc684nl6 p7hjln8o kvgmc6g5 cxmmr5t8 oygrvhab hcukyx3x jb3vyjys rz4wbd8a qt6c0cv9 a8nywdso i1ao9s8h esuyzwwr f1sip0of lzcic4wl py34i1dx gpro0wi8" href="https://l.facebook.com/l.php?u=http%3A%2F%2FHome.fm%2F%3Ffbclid%3DIwAR3xpGqV7hjanPNMOaNVQUoCQcitEsUuSTKz0WAqEouVWiO81R7MzQKYZWE&amp\;h=AT1jWsdkQDpB0O0uB9lbc9no56VlECEJeEWfg_wHNsoaJ7aZUi7ICJsl2hooIuFemcJdSWocb7vAFuR00DuRvGKPB0qZfAJFaoAwtyLCAVcDU1QM9kKyKPkX6iw8pGEOCcBJ&amp\;__tn__=q&amp\;c[0]=AT05Gf7kZ6OtiQSfcYQYEMwo7q1jMCsYcCGF5hHuldPR-tDNmJBHadYHMbsIuo3vGlqaVdsM3-bvpsIbRiBagsQZkrTMYh9VWYUyUsfJgPcltdNlRjlDXm4upT361IgWMfl8e4wSTZXP0wqz6qCllqjf1FTwnZSCbNzLamFpoWTaIKvu" rel="nofollow noopener" role="link" style="color: rgb(7\, 130\, 193)\; cursor: pointer\; text-decoration-line: none\; outline: none\; list-style: none\; border-width: 0px\; border-style: initial\; border-color: initial\; padding: 0px\; margin: 0px\; touch-action: manipulation\; background-color: transparent\; text-align: inherit\; display: inline\; -webkit-tap-highlight-color: transparent\; box-sizing: border-box\; font-family: inherit\;" tabindex="0" target="_blank">Home.fm</a>&nbsp\;Morning Show goes On the Road. There will be casual networking &amp\; FREE Fortress Cafe coffee for those attending.</strong></span></span></div>\n\n<div class="o9v6fnle cxmmr5t8 oygrvhab hcukyx3x c1et5uql" style="color: rgb(5\, 5\, 5)\; font-family: &quot\;Segoe UI Historic&quot\;\, &quot\;Segoe UI&quot\;\, Helvetica\, Arial\, sans-serif\; font-size: 15px\; overflow-wrap: break-word\; margin: 0.5em 0px 0px\; background-color: rgb(255\, 255\, 255)\;"><span style="font-family: arial\;"><span style="font-size: 18px\;"><strong>We are welcoming in a variety of community members and business owners to highlight the great things going on in Jackson - all morning long!</strong></span></span></div>\n
LOCATION:The Lean Rocket Lab 133 W Michigan Ave\, Jackson\, MI 49201
UID:e.2258.7622
SEQUENCE:3
DTSTAMP:20260419T164529Z
URL:https://business.jacksonchamber.org/events/details/live-at-the-lab-7622
END:VEVENT

END:VCALENDAR
