BEGIN:VCALENDAR
VERSION:2.0
PRODID:-//ChamberMaster//Event Calendar 2.0//EN
METHOD:PUBLISH
X-PUBLISHED-TTL:P3D
REFRESH-INTERVAL:P3D
CALSCALE:GREGORIAN
BEGIN:VEVENT
DTSTART:20230913T200000Z
DTEND:20230913T220000Z
X-MICROSOFT-CDO-ALLDAYEVENT:FALSE
SUMMARY:Our Neighbors Keeper Premier Ribbon Cutting
DESCRIPTION:Join us to celebrate Our Neighbors Keeper's 8th Anniversary and Premier ribbon cutting! The event will be held at 730 Tomlinson St.\, Jackson\, starting at 4:00 PM. The ribbon cutting ceremony will take place at 4:15 PM\, followed by tours of the building\, free face painting for kids\, and prize giveaways.
X-ALT-DESC;FMTTYPE=text/html:<span style="color: rgb(31\, 31\, 31)\; font-family: &quot\;Google Sans&quot\;\, &quot\;Helvetica Neue&quot\;\, sans-serif\; font-size: 16px\; white-space-collapse: preserve\;">Join us to celebrate Our Neighbors Keeper&#39\;s 8th Anniversary and Premier ribbon cutting! The event will be held at 730 Tomlinson St.\, Jackson\, starting at 4:00 PM. The ribbon cutting ceremony will take place at 4:15 PM\, followed by tours of the building\, free face painting for kids\, and prize giveaways.</span>\n<h3 class="ezoQ8iSy" id="header-subtitle" style="font-family: Nunito\, sans-serif\; line-height: 1.5em\; font-size: 1.5em\; color: rgb(255\, 255\, 255)\; text-shadow: rgba(0\, 0\, 0\, 0.5) 0px 0px 0.5px\; margin: 25px auto\; flex: 1 1 0%\; text-align: center\;">&nbsp\;</h3>\n
LOCATION:730 Tomlinson St.\, Jackson
UID:e.2258.7831
SEQUENCE:3
DTSTAMP:20260422T030306Z
URL:https://business.jacksonchamber.org/events/details/our-neighbors-keeper-premier-ribbon-cutting-7831
END:VEVENT

END:VCALENDAR
