BEGIN:VCALENDAR
VERSION:2.0
PRODID:-//ChamberMaster//Event Calendar 2.0//EN
METHOD:PUBLISH
X-PUBLISHED-TTL:P3D
REFRESH-INTERVAL:P3D
CALSCALE:GREGORIAN
BEGIN:VEVENT
DTSTART:20260501T130000Z
DTEND:20260501T180000Z
X-MICROSOFT-CDO-ALLDAYEVENT:FALSE
SUMMARY:Ribbon Cutting for Duke's Place
DESCRIPTION:Join us as we celebrate the grand opening of Duke's Place at the Jackson County Animal Shelter made possible through a meaningful partnership with Aeroquip Credit Union and Dawn Foods. Stop by on Friday\, May 1\, between 12 1 PM to be part of this special ribbon cutting and see the impact this new space will have on animals and our community.
X-ALT-DESC;FMTTYPE=text/html:<section class="text-token-text-primary w-full focus:outline-none [--shadow-height:45px] has-data-writing-block:pointer-events-none has-data-writing-block:-mt-(--shadow-height) has-data-writing-block:pt-(--shadow-height) [&amp\;:has([data-writing-block])&gt\;*]:pointer-events-auto [content-visibility:auto] supports-[content-visibility:auto]:[contain-intrinsic-size:auto_100lvh] R6Vx5W_threadScrollVars scroll-mb-[calc(var(--scroll-root-safe-area-inset-bottom\,0px)+var(--thread-response-height))] scroll-mt-[calc(var(--header-height)+min(200px\,max(70px\,20svh)))]" data-scroll-anchor="false" data-testid="conversation-turn-2" data-turn="assistant" data-turn-id="a1f73f79-c1a0-49ab-b58b-8f188920aeb7" dir="auto">\n<div class="text-base my-auto mx-auto pb-10 [--thread-content-margin:var(--thread-content-margin-xs\,calc(var(--spacing)*4))] @w-sm/main:[--thread-content-margin:var(--thread-content-margin-sm\,calc(var(--spacing)*6))] @w-lg/main:[--thread-content-margin:var(--thread-content-margin-lg\,calc(var(--spacing)*16))] px-(--thread-content-margin)">\n<div class="[--thread-content-max-width:40rem] @w-lg/main:[--thread-content-max-width:48rem] mx-auto max-w-(--thread-content-max-width) flex-1 group/turn-messages focus-visible:outline-hidden relative flex w-full min-w-0 flex-col agent-turn">\n<div class="flex max-w-full flex-col gap-4 grow">\n<div class="min-h-8 text-message relative flex w-full flex-col items-end gap-2 text-start break-words whitespace-normal outline-none keyboard-focused:focus-ring [.text-message+&amp\;]:mt-1" data-message-author-role="assistant" data-message-id="1b7bbc7f-35b7-426d-b64e-518aa238e6d8" data-message-model-slug="gpt-5-3" data-turn-start-message="true" dir="auto" tabindex="0">\n<div class="flex w-full flex-col gap-1 empty:hidden">\n<div class="markdown prose dark:prose-invert w-full wrap-break-word light markdown-new-styling">\n<p data-end="342" data-is-last-node="" data-is-only-node="" data-start="0">Join us as we celebrate the grand opening of Duke&rsquo\;s Place at the Jackson County Animal Shelter made possible through a meaningful partnership with Aeroquip Credit Union and Dawn Foods. Stop by on Friday\, May 1\, between 12&ndash\;1 PM to be part of this special ribbon cutting and see the impact this new space will have on animals and our community.</p>\n</div>\n</div>\n</div>\n</div>\n\n<div class="z-0 flex min-h-[46px] justify-start">&nbsp\;</div>\n</div>\n</div>\n</section>\n
LOCATION:
UID:e.2258.8045
SEQUENCE:3
DTSTAMP:20260422T220910Z
URL:https://business.jacksonchamber.org/events/details/ribbon-cutting-for-duke-s-place-8045
END:VEVENT

END:VCALENDAR
