BEGIN:VCALENDAR
VERSION:2.0
PRODID:-//ChamberMaster//Event Calendar 2.0//EN
METHOD:PUBLISH
X-PUBLISHED-TTL:P3D
REFRESH-INTERVAL:P3D
CALSCALE:GREGORIAN
BEGIN:VEVENT
DTSTART:20211112T123000Z
DTEND:20211112T140000Z
X-MICROSOFT-CDO-ALLDAYEVENT:FALSE
SUMMARY:Rise & Shine November 12\, 2021
DESCRIPTION:Meet the Mayor!\n\nJackson has a new Mayor! Hear from him during this informal and timely visit. Fresh of his election\, he will deliver some remarks and updates followed by open Q & A. What is his vision and priorities? What are his ideas to reduce crime\, fix roads\, stimulate commerce\, successfully work with council and more. \n\nA full breakfast will be provided by Vista Grande Villa.
X-ALT-DESC;FMTTYPE=text/html:<span style="font-size:14px\;">Meet the Mayor!<br />\nJackson has a new Mayor!&nbsp\;</span><span style="color: rgb(32\, 33\, 36)\; font-family: Roboto\, arial\, sans-serif\; font-size: 14px\; background-color: rgb(255\, 255\, 255)\;">Hear from him during this informal and timely visit. Fresh of his election\, he will deliver some remarks and updates followed by open Q &amp\; A. What is his vision and priorities? What are his ideas to reduce crime\, fix roads\, stimulate commerce\, successfully work with council and more.&nbsp\;</span><br style="color: rgb(32\, 33\, 36)\; font-family: Roboto\, arial\, sans-serif\; font-size: 14px\; background-color: rgb(255\, 255\, 255)\;" />\n<span style="color: rgb(32\, 33\, 36)\; font-family: Roboto\, arial\, sans-serif\; font-size: 14px\; background-color: rgb(255\, 255\, 255)\;">A full breakfast will be provided by Vista Grande Villa.</span>
LOCATION:Rose Room Vista Grande Villa 2251 Springport Rd Jackson\, MI 49202
UID:e.2258.7609
SEQUENCE:3
DTSTAMP:20260419T151548Z
URL:https://business.jacksonchamber.org/events/details/rise-shine-november-12-2021-7609
END:VEVENT

END:VCALENDAR
