BEGIN:VCALENDAR
VERSION:2.0
PRODID:-//ChamberMaster//Event Calendar 2.0//EN
METHOD:PUBLISH
X-PUBLISHED-TTL:P3D
REFRESH-INTERVAL:P3D
CALSCALE:GREGORIAN
BEGIN:VEVENT
DTSTART:20220113T170000Z
DTEND:20220113T180000Z
X-MICROSOFT-CDO-ALLDAYEVENT:FALSE
SUMMARY:The Dahlem Center Beck Bridge Ribbon Cutting
DESCRIPTION:Join us in celebrating the official opening of the Beck Bridge at the Dahlem Center that was placed in December. The bridge is the main gateway to their trails. They want to honor the donors who made this possible. $69\,000 was raised to fund the project. There will be a light luncheon following the event.
X-ALT-DESC;FMTTYPE=text/html:<span style="color:#000000\;"><span style="font-size:14px\;"><span style="font-family:arial\;">Join us in celebrating the official opening of the Beck Bridge at the Dahlem Center that was placed in December. T<span style="background-color: rgb(255\, 255\, 255)\;">he bridge is the main gateway to their trails. They want to honor the donors who made this possible. $69\,000 was raised to fund the project. There will be a light luncheon following the event.&nbsp\;</span></span></span></span>
LOCATION:The Dahlem Conservancy 7117 South Jackson Rd. Jackson\, MI 49201
UID:e.2258.7642
SEQUENCE:3
DTSTAMP:20260419T184946Z
URL:https://business.jacksonchamber.org/events/details/the-dahlem-center-beck-bridge-ribbon-cutting-7642
END:VEVENT

END:VCALENDAR
