BEGIN:VCALENDAR
VERSION:2.0
PRODID:-//ChamberMaster//Event Calendar 2.0//EN
METHOD:PUBLISH
X-PUBLISHED-TTL:P3D
REFRESH-INTERVAL:P3D
CALSCALE:GREGORIAN
BEGIN:VEVENT
DTSTART:20211027T023000Z
DTEND:20211027T033000Z
X-MICROSOFT-CDO-ALLDAYEVENT:FALSE
SUMMARY:TRUE Community Credit Union - Vandercook Lk Ribbon Cutting
DESCRIPTION:Celebrate the Grand Opening of the TRUE Community Credit Union Vandercook Lake Location!
X-ALT-DESC;FMTTYPE=text/html:Celebrate the Grand Opening of the TRUE Community Credit Union Vandercook Lake Location!
LOCATION:1304 E. McDevitt Ave
UID:e.2258.7618
SEQUENCE:3
DTSTAMP:20260419T150630Z
URL:https://business.jacksonchamber.org/events/details/true-community-credit-union-vandercook-lk-ribbon-cutting-7618
END:VEVENT

END:VCALENDAR
