BEGIN:VCALENDAR
VERSION:2.0
PRODID:-//ChamberMaster//Event Calendar 2.0//EN
METHOD:PUBLISH
X-PUBLISHED-TTL:P3D
REFRESH-INTERVAL:P3D
CALSCALE:GREGORIAN
BEGIN:VEVENT
DTSTART:20211001T200000Z
DTEND:20211001T210000Z
X-MICROSOFT-CDO-ALLDAYEVENT:FALSE
SUMMARY:XCel Staffing Ribbon Cutting
DESCRIPTION:Ribbon Cutting Celebration\n\nCome and Celebrate the newly renovated space in one of Jackson's historic downtown locations!
X-ALT-DESC;FMTTYPE=text/html:Ribbon Cutting Celebration<br />\nCome and Celebrate the newly renovated space in one of Jackson&#39\;s historic downtown locations!
LOCATION:146 W. Cortland
UID:e.2258.7615
SEQUENCE:3
DTSTAMP:20260419T150502Z
URL:https://business.jacksonchamber.org/events/details/xcel-staffing-ribbon-cutting-7615
END:VEVENT

END:VCALENDAR
